BEGIN:VCALENDAR
VERSION:2.0
METHOD:PUBLISH
CALSCALE:GREGORIAN
PRODID:-//Refresh Web Development//Helios Calendar//EN
X-FROM-URL:https://www.bayareascience.org/calendar/index.php?com=details&eID=31903
X-WR-RELCALID:BayAreaScience.org Persey's First Year on Mars - Livestream 20220218T130000
X-WR-TIMEZONE:America/New_York
X-WR-CALNAME:BayAreaScience.org
BEGIN:VEVENT
URL;VALUE=URI:https://www.bayareascience.org/calendar/index.php?com=detail&eID=31903
DTSTART:20220218T130000
DTEND:20220218T130000
SUMMARY:Persey's First Year on Mars - Livestream
DESCRIPTION:Since landing inside the 45 kilometer (28 mile) wide Jezero Crater on February 18\, 2021\, Persy has been busy observing the Mars environment\, capturing images\, and collecting samples for future...\n______________________________\nThis Event Downloaded From a Helios Calendar Powered Site
LOCATION:ExplOratorium - Pier 15 (Embarcadero at Green Street)  \, San Francisco\, CA USA 94111
CATEGORIES:BayAreaScience.org Events
PRIORITY:0
TRANSP:TRANSPARENT
END:VEVENT
END:VCALENDAR