BEGIN:VCALENDAR
VERSION:2.0
METHOD:PUBLISH
CALSCALE:GREGORIAN
PRODID:-//Refresh Web Development//Helios Calendar//EN
X-FROM-URL:https://www.bayareascience.org/calendar/index.php?com=details&eID=31904
X-WR-RELCALID:BayAreaScience.org Do Droughts Affect Groundwater Quality? A California Story - Livestream 20220224T180000
X-WR-TIMEZONE:America/New_York
X-WR-CALNAME:BayAreaScience.org
BEGIN:VEVENT
URL;VALUE=URI:https://www.bayareascience.org/calendar/index.php?com=detail&eID=31904
DTSTART:20220224T180000
DTEND:20220224T190000
SUMMARY:Do Droughts Affect Groundwater Quality? A California Story - Livestream
DESCRIPTION:Speaker: Zeno Levy\, USGS Research GeologistÂ Groundwater is an important source of drinking water for millions of Californians\, and billions worldwide.Conventional wisdom...\n______________________________\nThis Event Downloaded From a Helios Calendar Powered Site
LOCATION:US Geological Survey Public Lecture Series -  \, \, CA  
CATEGORIES:BayAreaScience.org Events
PRIORITY:0
TRANSP:TRANSPARENT
END:VEVENT
END:VCALENDAR