BEGIN:VCALENDAR
VERSION:2.0
METHOD:PUBLISH
CALSCALE:GREGORIAN
PRODID:-//Refresh Web Development//Helios Calendar//EN
X-FROM-URL:https://www.bayareascience.org/calendar/index.php?com=details&eID=31906
X-WR-RELCALID:BayAreaScience.org How Beavers Mitigate the Impacts of Climate Chance - Livestream 20220412T100000
X-WR-TIMEZONE:America/New_York
X-WR-CALNAME:BayAreaScience.org
BEGIN:VEVENT
URL;VALUE=URI:https://www.bayareascience.org/calendar/index.php?com=detail&eID=31906
DTSTART:20220412T100000
DTEND:20220412T110000
SUMMARY:How Beavers Mitigate the Impacts of Climate Chance - Livestream
DESCRIPTION:Dr. Fairfax will share her research finding that beavers are both irrigation managers and firefighters. She will explain how the presence of beavers in riparian habitats benefit other riparian...\n______________________________\nThis Event Downloaded From a Helios Calendar Powered Site
LOCATION:Audubon Canyon Ranch -  \, \, CA  
CATEGORIES:BayAreaScience.org Events
PRIORITY:0
TRANSP:TRANSPARENT
END:VEVENT
END:VCALENDAR