BEGIN:VCALENDAR
VERSION:2.0
METHOD:PUBLISH
CALSCALE:GREGORIAN
PRODID:-//Refresh Web Development//Helios Calendar//EN
X-FROM-URL:https://www.bayareascience.org/calendar/index.php?com=details&eID=31910
X-WR-RELCALID:BayAreaScience.org Two Talks: Popping the Science Bubble - Livestream 20220215T173000
X-WR-TIMEZONE:America/New_York
X-WR-CALNAME:BayAreaScience.org
BEGIN:VEVENT
URL;VALUE=URI:https://www.bayareascience.org/calendar/index.php?com=detail&eID=31910
DTSTART:20220215T173000
DTEND:20220215T183000
SUMMARY:Two Talks: Popping the Science Bubble - Livestream
DESCRIPTION:Good Viruses: Powerful Tools Deliver a Next Generation of Life-Saving MedicinesViruses are conventionally known as the bad guys: societal antagonists that...\n______________________________\nThis Event Downloaded From a Helios Calendar Powered Site
LOCATION:Berkeley Public Library -  \, \, CA  
CATEGORIES:BayAreaScience.org Events
PRIORITY:0
TRANSP:TRANSPARENT
END:VEVENT
END:VCALENDAR