BEGIN:VCALENDAR
VERSION:2.0
METHOD:PUBLISH
CALSCALE:GREGORIAN
PRODID:-//Refresh Web Development//Helios Calendar//EN
X-FROM-URL:https://www.bayareascience.org/calendar/index.php?com=details&eID=31914
X-WR-RELCALID:BayAreaScience.org Cold Air Rises: Profound Effects of Vapor Buoyancy on Earth's Climate - Livestream 20220210T113000
X-WR-TIMEZONE:America/New_York
X-WR-CALNAME:BayAreaScience.org
BEGIN:VEVENT
URL;VALUE=URI:https://www.bayareascience.org/calendar/index.php?com=detail&eID=31914
DTSTART:20220210T113000
DTEND:20220210T123000
SUMMARY:Cold Air Rises: Profound Effects of Vapor Buoyancy on Earth's Climate - Livestream
DESCRIPTION:Â The molar mass of water vapor is less than that of dry air\, making humid air lighter than dry air at the same temperature and pressure. This effect is known as vapor buoyancy and has been considered...\n______________________________\nThis Event Downloaded From a Helios Calendar Powered Site
LOCATION:Stanford University -  \, \, CA  
CATEGORIES:BayAreaScience.org Events
PRIORITY:0
TRANSP:TRANSPARENT
END:VEVENT
END:VCALENDAR