BEGIN:VCALENDAR
VERSION:2.0
METHOD:PUBLISH
CALSCALE:GREGORIAN
PRODID:-//Refresh Web Development//Helios Calendar//EN
X-FROM-URL:https://www.bayareascience.org/calendar/index.php?com=details&eID=31921
X-WR-RELCALID:BayAreaScience.org Processing Conventional and Non-Uniformly Sampled Biomolecular NMR Spectra: How to Do It, and Whatâ€™s Good to Know - Livestream 20220224T120000
X-WR-TIMEZONE:America/New_York
X-WR-CALNAME:BayAreaScience.org
BEGIN:VEVENT
URL;VALUE=URI:https://www.bayareascience.org/calendar/index.php?com=detail&eID=31921
DTSTART:20220224T120000
DTEND:20220224T130000
SUMMARY:Processing Conventional and Non-Uniformly Sampled Biomolecular NMR Spectra: How to Do It\, and Whatâ€™s Good to Know - Livestream
DESCRIPTION:Biomolecular NMR is widely...\n______________________________\nThis Event Downloaded From a Helios Calendar Powered Site
LOCATION:California Section American Chemical Society -  \, \, CA  
CATEGORIES:BayAreaScience.org Events
PRIORITY:0
TRANSP:TRANSPARENT
END:VEVENT
END:VCALENDAR