BEGIN:VCALENDAR
VERSION:2.0
METHOD:PUBLISH
CALSCALE:GREGORIAN
PRODID:-//Refresh Web Development//Helios Calendar//EN
X-FROM-URL:https://www.bayareascience.org/calendar/index.php?com=details&eID=31923
X-WR-RELCALID:BayAreaScience.org Clean Hydrogen - Blue vs Green Hydrogen and its role in our energy future - Livestream 20220216T120000
X-WR-TIMEZONE:America/New_York
X-WR-CALNAME:BayAreaScience.org
BEGIN:VEVENT
URL;VALUE=URI:https://www.bayareascience.org/calendar/index.php?com=detail&eID=31923
DTSTART:20220216T120000
DTEND:20220216T133000
SUMMARY:Clean Hydrogen - Blue vs Green Hydrogen and its role in our energy future - Livestream
DESCRIPTION:Hydrogen is emerging as an important\, potential zero-emission transportation\, industrial and energy storage fuel. But there are many ways to make hydrogen and not all of them are climate friendly....\n______________________________\nThis Event Downloaded From a Helios Calendar Powered Site
LOCATION:Electrify Now -  \, \, CA  
CATEGORIES:BayAreaScience.org Events
PRIORITY:0
TRANSP:TRANSPARENT
END:VEVENT
END:VCALENDAR