BEGIN:VCALENDAR
VERSION:2.0
METHOD:PUBLISH
CALSCALE:GREGORIAN
PRODID:-//Refresh Web Development//Helios Calendar//EN
X-FROM-URL:https://www.bayareascience.org/calendar/index.php?com=details&eID=31924
X-WR-RELCALID:BayAreaScience.org Science on Tap - Why was the weather forecast wrong? And what does that mean for climate change? 20220223T190000
X-WR-TIMEZONE:America/New_York
X-WR-CALNAME:BayAreaScience.org
BEGIN:VEVENT
URL;VALUE=URI:https://www.bayareascience.org/calendar/index.php?com=detail&eID=31924
DTSTART:20220223T190000
DTEND:20220223T190000
SUMMARY:Science on Tap - Why was the weather forecast wrong? And what does that mean for climate change?
DESCRIPTION:The biggest challenge in weather forecasting is predicting whether itâ€™s going to rain\, and if so\, how much. One reason for this difficulty is that the clouds that produce the rain are not...\n______________________________\nThis Event Downloaded From a Helios Calendar Powered Site
LOCATION:Museum of Art and History - 705 Front St Back Patio\, Santa Cruz\, CA  95060
CATEGORIES:BayAreaScience.org Events
PRIORITY:0
TRANSP:TRANSPARENT
END:VEVENT
END:VCALENDAR