BEGIN:VCALENDAR
VERSION:2.0
METHOD:PUBLISH
CALSCALE:GREGORIAN
PRODID:-//Refresh Web Development//Helios Calendar//EN
X-FROM-URL:https://www.bayareascience.org/calendar/index.php?com=details&eID=31927
X-WR-RELCALID:BayAreaScience.org Bridging the process-pattern divide in ecology and evolution - Livestream 20220214T160000
X-WR-TIMEZONE:America/New_York
X-WR-CALNAME:BayAreaScience.org
BEGIN:VEVENT
URL;VALUE=URI:https://www.bayareascience.org/calendar/index.php?com=detail&eID=31927
DTSTART:20220214T160000
DTEND:20220214T170000
SUMMARY:Bridging the process-pattern divide in ecology and evolution - Livestream
DESCRIPTION:Dr. James T. Stroud is an evolutionary ecologist that explores the processes responsible for the generation and maintenance of large-scale patterns of biological diversity\, primarily using lizards...\n______________________________\nThis Event Downloaded From a Helios Calendar Powered Site
LOCATION:Stanford University -  \, \, CA  
CATEGORIES:BayAreaScience.org Events
PRIORITY:0
TRANSP:TRANSPARENT
END:VEVENT
END:VCALENDAR