BEGIN:VCALENDAR
VERSION:2.0
METHOD:PUBLISH
CALSCALE:GREGORIAN
PRODID:-//Refresh Web Development//Helios Calendar//EN
X-FROM-URL:https://www.bayareascience.org/calendar/index.php?com=details&eID=31929
X-WR-RELCALID:BayAreaScience.org Frog Docent Program - Livestream 20220305T090000
X-WR-TIMEZONE:America/New_York
X-WR-CALNAME:BayAreaScience.org
BEGIN:VEVENT
URL;VALUE=URI:https://www.bayareascience.org/calendar/index.php?com=detail&eID=31929
DTSTART:20220305T090000
DTEND:20220305T103000
SUMMARY:Frog Docent Program - Livestream
DESCRIPTION:Spend time outdoors and become a community scientist with Marin Waterâ€™s Frog Docent Program! Help protect the foothill yellow-legged frogs\, a federal and state species of...\n______________________________\nThis Event Downloaded From a Helios Calendar Powered Site
LOCATION:Marin Water -  \, \, CA  
CATEGORIES:BayAreaScience.org Events
PRIORITY:0
TRANSP:TRANSPARENT
END:VEVENT
END:VCALENDAR