BEGIN:VCALENDAR
VERSION:2.0
METHOD:PUBLISH
CALSCALE:GREGORIAN
PRODID:-//Refresh Web Development//Helios Calendar//EN
X-FROM-URL:https://www.bayareascience.org/calendar/index.php?com=details&eID=31931
X-WR-RELCALID:BayAreaScience.org From Impossible to Inevitable: Chile's Path to Net Zero - Livestream 20220228T160000
X-WR-TIMEZONE:America/New_York
X-WR-CALNAME:BayAreaScience.org
BEGIN:VEVENT
URL;VALUE=URI:https://www.bayareascience.org/calendar/index.php?com=detail&eID=31931
DTSTART:20220228T160000
DTEND:20220228T165000
SUMMARY:From Impossible to Inevitable: Chile's Path to Net Zero - Livestream
DESCRIPTION:Chile has undergone an energy revolution that has changed the country's climate and energy policy. In 2013 large coal and hydro projects were in line\, which were ultimately shelved and replaced...\n______________________________\nThis Event Downloaded From a Helios Calendar Powered Site
LOCATION:Stanford Energy Seminar -  \, \, CA  
CATEGORIES:BayAreaScience.org Events
PRIORITY:0
TRANSP:TRANSPARENT
END:VEVENT
END:VCALENDAR