BEGIN:VCALENDAR
VERSION:2.0
METHOD:PUBLISH
CALSCALE:GREGORIAN
PRODID:-//Refresh Web Development//Helios Calendar//EN
X-FROM-URL:https://www.bayareascience.org/calendar/index.php?com=details&eID=31934
X-WR-RELCALID:BayAreaScience.org Climate Futures: Beyond 02022 20220302T190000
X-WR-TIMEZONE:America/New_York
X-WR-CALNAME:BayAreaScience.org
BEGIN:VEVENT
URL;VALUE=URI:https://www.bayareascience.org/calendar/index.php?com=detail&eID=31934
DTSTART:20220302T190000
DTEND:20220302T190000
SUMMARY:Climate Futures: Beyond 02022
DESCRIPTION:Long...\n______________________________\nThis Event Downloaded From a Helios Calendar Powered Site
LOCATION:Cowell Theater - Fort Mason Center 2 Marina Blvd\, San Francisco\, CA USA 94109
CATEGORIES:BayAreaScience.org Events
PRIORITY:0
TRANSP:TRANSPARENT
END:VEVENT
END:VCALENDAR