BEGIN:VCALENDAR
VERSION:2.0
METHOD:PUBLISH
CALSCALE:GREGORIAN
PRODID:-//Refresh Web Development//Helios Calendar//EN
X-FROM-URL:https://www.bayareascience.org/calendar/index.php?com=details&eID=31938
X-WR-RELCALID:BayAreaScience.org The Conservation of Coyote Ridge - Livestream 20220303T183000
X-WR-TIMEZONE:America/New_York
X-WR-CALNAME:BayAreaScience.org
BEGIN:VEVENT
URL;VALUE=URI:https://www.bayareascience.org/calendar/index.php?com=detail&eID=31938
DTSTART:20220303T183000
DTEND:20220303T200000
SUMMARY:The Conservation of Coyote Ridge - Livestream
DESCRIPTION:Join Dr. Stu Weiss\, a champion for the unique history and conservation significance of Coyote Ridge. Explore the connections that exist between humans\, butterflies\, plants\, and a rare soil type....\n______________________________\nThis Event Downloaded From a Helios Calendar Powered Site
LOCATION:Peninsula Open Space Trust -  \, \, CA  
CATEGORIES:BayAreaScience.org Events
PRIORITY:0
TRANSP:TRANSPARENT
END:VEVENT
END:VCALENDAR