BEGIN:VCALENDAR
VERSION:2.0
METHOD:PUBLISH
CALSCALE:GREGORIAN
PRODID:-//Refresh Web Development//Helios Calendar//EN
X-FROM-URL:https://www.bayareascience.org/calendar/index.php?com=details&eID=31947
X-WR-RELCALID:BayAreaScience.org The Poetry of Science 20220222T160000
X-WR-TIMEZONE:America/New_York
X-WR-CALNAME:BayAreaScience.org
BEGIN:VEVENT
URL;VALUE=URI:https://www.bayareascience.org/calendar/index.php?com=detail&eID=31947
DTSTART:20220222T160000
DTEND:20220222T180000
SUMMARY:The Poetry of Science
DESCRIPTION:Science and art have long been closely linked together\, from George Washington Carver to Maria Sibylla Merian. Today\, scientists find avenues across disciplines and artistic...\n______________________________\nThis Event Downloaded From a Helios Calendar Powered Site
LOCATION:livestream -  \, \, CA  
CATEGORIES:BayAreaScience.org Events
PRIORITY:0
TRANSP:TRANSPARENT
END:VEVENT
END:VCALENDAR