BEGIN:VCALENDAR
VERSION:2.0
METHOD:PUBLISH
CALSCALE:GREGORIAN
PRODID:-//Refresh Web Development//Helios Calendar//EN
X-FROM-URL:https://www.bayareascience.org/calendar/index.php?com=details&eID=31954
X-WR-RELCALID:BayAreaScience.org What Physicists Do - Livestream 20220411T160000
X-WR-TIMEZONE:America/New_York
X-WR-CALNAME:BayAreaScience.org
BEGIN:VEVENT
URL;VALUE=URI:https://www.bayareascience.org/calendar/index.php?com=detail&eID=31954
DTSTART:20220411T160000
DTEND:20220411T160000
SUMMARY:What Physicists Do - Livestream
DESCRIPTION:Speaker:TBAChance Hawkins\, alluxa Optical Filters and Thin-Film Coatings\, originally scheduled to speak today\, will not be available.See weblink for Zoom link\n______________________________\nThis Event Downloaded From a Helios Calendar Powered Site
LOCATION:What Physicists Do - Sonoma State University -  \, \, CA  
CATEGORIES:BayAreaScience.org Events
PRIORITY:0
TRANSP:TRANSPARENT
END:VEVENT
END:VCALENDAR