BEGIN:VCALENDAR
VERSION:2.0
METHOD:PUBLISH
CALSCALE:GREGORIAN
PRODID:-//Refresh Web Development//Helios Calendar//EN
X-FROM-URL:https://www.bayareascience.org/calendar/index.php?com=details&eID=31960
X-WR-RELCALID:BayAreaScience.org Science at Cal - First Fridays Oakland 20220304T170000
X-WR-TIMEZONE:America/New_York
X-WR-CALNAME:BayAreaScience.org
BEGIN:VEVENT
URL;VALUE=URI:https://www.bayareascience.org/calendar/index.php?com=detail&eID=31960
DTSTART:20220304T170000
DTEND:20220304T210000
SUMMARY:Science at Cal - First Fridays Oakland
DESCRIPTION:Join Science at Cal and the Lawrence Hall of Science as we put the "A" in "STEAM" at the next First Fridays\, a popular art and street fair in downtown Oakland! We'll be exploring the space where...\n______________________________\nThis Event Downloaded From a Helios Calendar Powered Site
LOCATION:First Fridays Oakland - Telegraph Ave between  West Grand and 27th St\, Oakland\, CA  
CATEGORIES:BayAreaScience.org Events
PRIORITY:0
TRANSP:TRANSPARENT
END:VEVENT
END:VCALENDAR