BEGIN:VCALENDAR
VERSION:2.0
METHOD:PUBLISH
CALSCALE:GREGORIAN
PRODID:-//Refresh Web Development//Helios Calendar//EN
X-FROM-URL:https://www.bayareascience.org/calendar/index.php?com=details&eID=31967
X-WR-RELCALID:BayAreaScience.org Investigating Space: Stellar Scientists 20220319T110000
X-WR-TIMEZONE:America/New_York
X-WR-CALNAME:BayAreaScience.org
BEGIN:VEVENT
URL;VALUE=URI:https://www.bayareascience.org/calendar/index.php?com=detail&eID=31967
DTSTART:20220319T110000
DTEND:20220319T160000
SUMMARY:Investigating Space: Stellar Scientists
DESCRIPTION:Scientific Adventures for Girls is teaming up with Chabot Space & Science Center for an out-of-this-world day that brings together hands-on activities and interactive conversations to highlight...\n______________________________\nThis Event Downloaded From a Helios Calendar Powered Site
LOCATION:Chabot Space and Science Center - 10000 Skyline Blvd \, Oakland\, CA USA 94619
CATEGORIES:BayAreaScience.org Events
PRIORITY:0
TRANSP:TRANSPARENT
END:VEVENT
END:VCALENDAR