BEGIN:VCALENDAR
VERSION:2.0
METHOD:PUBLISH
CALSCALE:GREGORIAN
PRODID:-//Refresh Web Development//Helios Calendar//EN
X-FROM-URL:https://www.bayareascience.org/calendar/index.php?com=details&eID=31968
X-WR-RELCALID:BayAreaScience.org  VSU Highlights Future of Earthquake Forecasting - Livestream 20220303T123000
X-WR-TIMEZONE:America/New_York
X-WR-CALNAME:BayAreaScience.org
BEGIN:VEVENT
URL;VALUE=URI:https://www.bayareascience.org/calendar/index.php?com=detail&eID=31968
DTSTART:20220303T123000
DTEND:20220303T133000
SUMMARY: VSU Highlights Future of Earthquake Forecasting - Livestream
DESCRIPTION:Dr. Friedemann Freund\,...\n______________________________\nThis Event Downloaded From a Helios Calendar Powered Site
LOCATION:Valdosta State University -  \, \, CA  
CATEGORIES:BayAreaScience.org Events
PRIORITY:0
TRANSP:TRANSPARENT
END:VEVENT
END:VCALENDAR