BEGIN:VCALENDAR
VERSION:2.0
METHOD:PUBLISH
CALSCALE:GREGORIAN
PRODID:-//Refresh Web Development//Helios Calendar//EN
X-FROM-URL:https://www.bayareascience.org/calendar/index.php?com=details&eID=31974
X-WR-RELCALID:BayAreaScience.org After Dark: Wondrous Fungus 20220227T180000
X-WR-TIMEZONE:America/New_York
X-WR-CALNAME:BayAreaScience.org
BEGIN:VEVENT
URL;VALUE=URI:https://www.bayareascience.org/calendar/index.php?com=detail&eID=31974
DTSTART:20220227T180000
DTEND:20220227T220000
SUMMARY:After Dark: Wondrous Fungus
DESCRIPTION:The fascinating qualities of fungi are manifold and sometimes mind-blowing. Tonight at After Dark\, discover some fun facts about the beautiful\, diverse\, and curious fungus kingdom\, including mushrooms\,...\n______________________________\nThis Event Downloaded From a Helios Calendar Powered Site
LOCATION:ExplOratorium - Pier 15 (Embarcadero at Green Street)  \, San Francisco\, CA USA 94111
CATEGORIES:BayAreaScience.org Events
PRIORITY:0
TRANSP:TRANSPARENT
END:VEVENT
END:VCALENDAR