BEGIN:VCALENDAR
VERSION:2.0
METHOD:PUBLISH
CALSCALE:GREGORIAN
PRODID:-//Refresh Web Development//Helios Calendar//EN
X-FROM-URL:https://www.bayareascience.org/calendar/index.php?com=details&eID=31982
X-WR-RELCALID:BayAreaScience.org Music of the Spheres: Probing Heavy Element Formation in the Early Universe with Metal-Poor Stars in the Milky Way- SOLD OUT 20220820T190000
X-WR-TIMEZONE:America/New_York
X-WR-CALNAME:BayAreaScience.org
BEGIN:VEVENT
URL;VALUE=URI:https://www.bayareascience.org/calendar/index.php?com=detail&eID=31982
DTSTART:20220820T190000
DTEND:20220821T003000
SUMMARY:Music of the Spheres: Probing Heavy Element Formation in the Early Universe with Metal-Poor Stars in the Milky Way- SOLD OUT
DESCRIPTION:Artist: The Black...\n______________________________\nThis Event Downloaded From a Helios Calendar Powered Site
LOCATION:Lick Observatory - 7299 Mt. Hamilton Rd \, Mt. Hamilton\, CA  95140
CATEGORIES:BayAreaScience.org Events
PRIORITY:0
TRANSP:TRANSPARENT
END:VEVENT
END:VCALENDAR