BEGIN:VCALENDAR
VERSION:2.0
METHOD:PUBLISH
CALSCALE:GREGORIAN
PRODID:-//Refresh Web Development//Helios Calendar//EN
X-FROM-URL:https://www.bayareascience.org/calendar/index.php?com=details&eID=31987
X-WR-RELCALID:BayAreaScience.org Evening with the Stars at Lick Observatory - Sold Out 20220805T200000
X-WR-TIMEZONE:America/New_York
X-WR-CALNAME:BayAreaScience.org
BEGIN:VEVENT
URL;VALUE=URI:https://www.bayareascience.org/calendar/index.php?com=detail&eID=31987
DTSTART:20220805T200000
DTEND:20220805T200000
SUMMARY:Evening with the Stars at Lick Observatory - Sold Out
DESCRIPTION:Astronomy Speaker: Brian DayTickets go on sale April 13 at noon. See weblink.\n______________________________\nThis Event Downloaded From a Helios Calendar Powered Site
LOCATION:Lick Observatory - 7299 Mt. Hamilton Rd \, Mt. Hamilton\, CA  95140
CATEGORIES:BayAreaScience.org Events
PRIORITY:0
TRANSP:TRANSPARENT
END:VEVENT
END:VCALENDAR