BEGIN:VCALENDAR
VERSION:2.0
METHOD:PUBLISH
CALSCALE:GREGORIAN
PRODID:-//Refresh Web Development//Helios Calendar//EN
X-FROM-URL:https://www.bayareascience.org/calendar/index.php?com=details&eID=31988
X-WR-RELCALID:BayAreaScience.org lluminating the Cosmic Web with Fast Radio Bursts - SOLD OUT 20220819T200000
X-WR-TIMEZONE:America/New_York
X-WR-CALNAME:BayAreaScience.org
BEGIN:VEVENT
URL;VALUE=URI:https://www.bayareascience.org/calendar/index.php?com=detail&eID=31988
DTSTART:20220819T200000
DTEND:20220819T200000
SUMMARY:lluminating the Cosmic Web with Fast Radio Bursts - SOLD OUT
DESCRIPTION:Astronomy Speaker: Dr. J Xavier Prochaska\, UC Santa Cruz\n______________________________\nThis Event Downloaded From a Helios Calendar Powered Site
LOCATION:Lick Observatory - 7299 Mt. Hamilton Rd \, Mt. Hamilton\, CA  95140
CATEGORIES:BayAreaScience.org Events
PRIORITY:0
TRANSP:TRANSPARENT
END:VEVENT
END:VCALENDAR