BEGIN:VCALENDAR
VERSION:2.0
METHOD:PUBLISH
CALSCALE:GREGORIAN
PRODID:-//Refresh Web Development//Helios Calendar//EN
X-FROM-URL:https://www.bayareascience.org/calendar/index.php?com=details&eID=31991
X-WR-RELCALID:BayAreaScience.org Tuning into Dark Matter with the ADMX Experiment - Livestream 20220318T193000
X-WR-TIMEZONE:America/New_York
X-WR-CALNAME:BayAreaScience.org
BEGIN:VEVENT
URL;VALUE=URI:https://www.bayareascience.org/calendar/index.php?com=detail&eID=31991
DTSTART:20220318T193000
DTEND:20220318T193000
SUMMARY:Tuning into Dark Matter with the ADMX Experiment - Livestream
DESCRIPTION:The nature of dark matter is one of the great mysteries of modern physics and could be sourced from new particles beyond the standard model. The Axion\, a particle postulated to solve other mysteries...\n______________________________\nThis Event Downloaded From a Helios Calendar Powered Site
LOCATION:Tri-Valley Stargazers -  \, \, CA  
CATEGORIES:BayAreaScience.org Events
PRIORITY:0
TRANSP:TRANSPARENT
END:VEVENT
END:VCALENDAR