BEGIN:VCALENDAR
VERSION:2.0
METHOD:PUBLISH
CALSCALE:GREGORIAN
PRODID:-//Refresh Web Development//Helios Calendar//EN
X-FROM-URL:https://www.bayareascience.org/calendar/index.php?com=details&eID=31992
X-WR-RELCALID:BayAreaScience.org Leveraging Science Driven Research with Entrepreneurial Vim - Key Gaps & Essential Toolkit - Livestream 20220325T120000
X-WR-TIMEZONE:America/New_York
X-WR-CALNAME:BayAreaScience.org
BEGIN:VEVENT
URL;VALUE=URI:https://www.bayareascience.org/calendar/index.php?com=detail&eID=31992
DTSTART:20220325T120000
DTEND:20220325T130000
SUMMARY:Leveraging Science Driven Research with Entrepreneurial Vim - Key Gaps & Essential Toolkit - Livestream
DESCRIPTION:In scientific...\n______________________________\nThis Event Downloaded From a Helios Calendar Powered Site
LOCATION:California Section American Chemical Society -  \, \, CA  
CATEGORIES:BayAreaScience.org Events
PRIORITY:0
TRANSP:TRANSPARENT
END:VEVENT
END:VCALENDAR