BEGIN:VCALENDAR
VERSION:2.0
METHOD:PUBLISH
CALSCALE:GREGORIAN
PRODID:-//Refresh Web Development//Helios Calendar//EN
X-FROM-URL:https://www.bayareascience.org/calendar/index.php?com=details&eID=31994
X-WR-RELCALID:BayAreaScience.org Magnetic Particle Imaging: Monitoring CAR-T cell therapies as they home and kill tumors using safe superferromagnetic nanoparticle tracers (and more!) 20220304T140000
X-WR-TIMEZONE:America/New_York
X-WR-CALNAME:BayAreaScience.org
BEGIN:VEVENT
URL;VALUE=URI:https://www.bayareascience.org/calendar/index.php?com=detail&eID=31994
DTSTART:20220304T140000
DTEND:20220304T150000
SUMMARY:Magnetic Particle Imaging: Monitoring CAR-T cell therapies as they home and kill tumors using safe superferromagnetic nanoparticle tracers (and more!)
DESCRIPTION:Magnetic Particle Imaging (MPI) is an emerging noninvasive biomedical imaging modality that shows great promise for vascular and cellular imaging. MPI uses different physics from all conventional...\n______________________________\nThis Event Downloaded From a Helios Calendar Powered Site
LOCATION:LeConte Hall\, Rm 4 - UC Berkeley \, Berkeley\, CA  94720
CATEGORIES:BayAreaScience.org Events
PRIORITY:0
TRANSP:TRANSPARENT
END:VEVENT
END:VCALENDAR