BEGIN:VCALENDAR
VERSION:2.0
METHOD:PUBLISH
CALSCALE:GREGORIAN
PRODID:-//Refresh Web Development//Helios Calendar//EN
X-FROM-URL:https://www.bayareascience.org/calendar/index.php?com=details&eID=31998
X-WR-RELCALID:BayAreaScience.org  Folds, cuts and isometries: art and science 20220314T161500
X-WR-TIMEZONE:America/New_York
X-WR-CALNAME:BayAreaScience.org
BEGIN:VEVENT
URL;VALUE=URI:https://www.bayareascience.org/calendar/index.php?com=detail&eID=31998
DTSTART:20220314T161500
DTEND:20220314T161500
SUMMARY: Folds\, cuts and isometries: art and science
DESCRIPTION:For millennia\, origami and kirigami artists have used folds and cuts to create beautiful shapes from a simple sheet of paper. I will describe our recent scientific attempts to catch up with these...\n______________________________\nThis Event Downloaded From a Helios Calendar Powered Site
LOCATION:Physics North - UC Berkeley Room 1\, Berkeley\, CA  94720
CATEGORIES:BayAreaScience.org Events
PRIORITY:0
TRANSP:TRANSPARENT
END:VEVENT
END:VCALENDAR