BEGIN:VCALENDAR
VERSION:2.0
METHOD:PUBLISH
CALSCALE:GREGORIAN
PRODID:-//Refresh Web Development//Helios Calendar//EN
X-FROM-URL:https://www.bayareascience.org/calendar/index.php?com=details&eID=32011
X-WR-RELCALID:BayAreaScience.org Nerd Nite SF #123: Fishing, Literary Culture, & Carnivores! 20220316T200000
X-WR-TIMEZONE:America/New_York
X-WR-CALNAME:BayAreaScience.org
BEGIN:VEVENT
URL;VALUE=URI:https://www.bayareascience.org/calendar/index.php?com=detail&eID=32011
DTSTART:20220316T200000
DTEND:20220316T200000
SUMMARY:Nerd Nite SF #123: Fishing\, Literary Culture\, & Carnivores!
DESCRIPTION:Unforgettable FishingCalling all fishing enthusiasts and non-fishing enthusiasts alike! Climb aboard and get your vitamin sea with Captain Virginia of Gatecrasher Fishing...\n______________________________\nThis Event Downloaded From a Helios Calendar Powered Site
LOCATION:Rickshaw Stop - 155 Fell St. @ Van Ness \, San Francisco\, CA  94102
CATEGORIES:BayAreaScience.org Events
PRIORITY:0
TRANSP:TRANSPARENT
END:VEVENT
END:VCALENDAR