BEGIN:VCALENDAR
VERSION:2.0
METHOD:PUBLISH
CALSCALE:GREGORIAN
PRODID:-//Refresh Web Development//Helios Calendar//EN
X-FROM-URL:https://www.bayareascience.org/calendar/index.php?com=details&eID=32012
X-WR-RELCALID:BayAreaScience.org Women in Astronomy - Livestream 20220307T130000
X-WR-TIMEZONE:America/New_York
X-WR-CALNAME:BayAreaScience.org
BEGIN:VEVENT
URL;VALUE=URI:https://www.bayareascience.org/calendar/index.php?com=detail&eID=32012
DTSTART:20220307T130000
DTEND:20220307T140000
SUMMARY:Women in Astronomy - Livestream
DESCRIPTION:In the field of astronomy research\, women have made some of the greatest contributions\, even when access to the discipline was restricted. For example\, a century ago women were enlisted to organize...\n______________________________\nThis Event Downloaded From a Helios Calendar Powered Site
LOCATION:SETI Institute -  \, \, CA  
CATEGORIES:BayAreaScience.org Events
PRIORITY:0
TRANSP:TRANSPARENT
END:VEVENT
END:VCALENDAR