BEGIN:VCALENDAR
VERSION:2.0
METHOD:PUBLISH
CALSCALE:GREGORIAN
PRODID:-//Refresh Web Development//Helios Calendar//EN
X-FROM-URL:https://www.bayareascience.org/calendar/index.php?com=details&eID=32019
X-WR-RELCALID:BayAreaScience.org PubScience: Plant-Based Protein - Plant Biology and the Quest for Sustainable Foods 20220310T183000
X-WR-TIMEZONE:America/New_York
X-WR-CALNAME:BayAreaScience.org
BEGIN:VEVENT
URL;VALUE=URI:https://www.bayareascience.org/calendar/index.php?com=detail&eID=32019
DTSTART:20220310T183000
DTEND:20220310T193000
SUMMARY:PubScience: Plant-Based Protein - Plant Biology and the Quest for Sustainable Foods
DESCRIPTION:Speaker: Daniel Wescot\,...\n______________________________\nThis Event Downloaded From a Helios Calendar Powered Site
LOCATION:Ocean View Brew Works - 627 San Pablo Ave. \, Albany\, CA  94706
CATEGORIES:BayAreaScience.org Events
PRIORITY:0
TRANSP:TRANSPARENT
END:VEVENT
END:VCALENDAR