BEGIN:VCALENDAR
VERSION:2.0
METHOD:PUBLISH
CALSCALE:GREGORIAN
PRODID:-//Refresh Web Development//Helios Calendar//EN
X-FROM-URL:https://www.bayareascience.org/calendar/index.php?com=details&eID=32020
X-WR-RELCALID:BayAreaScience.org Watching the Grass Grow - For Over a Decade - Livestream 20220331T180000
X-WR-TIMEZONE:America/New_York
X-WR-CALNAME:BayAreaScience.org
BEGIN:VEVENT
URL;VALUE=URI:https://www.bayareascience.org/calendar/index.php?com=detail&eID=32020
DTSTART:20220331T180000
DTEND:20220331T190000
SUMMARY:Watching the Grass Grow - For Over a Decade - Livestream
DESCRIPTION:The San Francisco Bay provides important habitat for both migrating birds and resident species that live in these ecosystems year-round. Unfortunately\, ~90% of tidal marshes along the edge of the...\n______________________________\nThis Event Downloaded From a Helios Calendar Powered Site
LOCATION:San Francisco Bay Bird Observatory -  \, \, CA  
CATEGORIES:BayAreaScience.org Events
PRIORITY:0
TRANSP:TRANSPARENT
END:VEVENT
END:VCALENDAR