BEGIN:VCALENDAR
VERSION:2.0
METHOD:PUBLISH
CALSCALE:GREGORIAN
PRODID:-//Refresh Web Development//Helios Calendar//EN
X-FROM-URL:https://www.bayareascience.org/calendar/index.php?com=details&eID=32031
X-WR-RELCALID:BayAreaScience.org  SETI Talks: Mysterious Radio Signals in the Milky Way - Livestream 20220323T190000
X-WR-TIMEZONE:America/New_York
X-WR-CALNAME:BayAreaScience.org
BEGIN:VEVENT
URL;VALUE=URI:https://www.bayareascience.org/calendar/index.php?com=detail&eID=32031
DTSTART:20220323T190000
DTEND:20220323T200000
SUMMARY: SETI Talks: Mysterious Radio Signals in the Milky Way - Livestream
DESCRIPTION:At the end of 2021\, a group of astronomers detected unusual signals from deep in the heart of the Milky Way. More recently\, another group happened upon a celestial object releasing giant bursts...\n______________________________\nThis Event Downloaded From a Helios Calendar Powered Site
LOCATION:SETI Institute -  \, \, CA  
CATEGORIES:BayAreaScience.org Events
PRIORITY:0
TRANSP:TRANSPARENT
END:VEVENT
END:VCALENDAR