BEGIN:VCALENDAR
VERSION:2.0
METHOD:PUBLISH
CALSCALE:GREGORIAN
PRODID:-//Refresh Web Development//Helios Calendar//EN
X-FROM-URL:https://www.bayareascience.org/calendar/index.php?com=details&eID=32033
X-WR-RELCALID:BayAreaScience.org Grounds for Science 20220406T173000
X-WR-TIMEZONE:America/New_York
X-WR-CALNAME:BayAreaScience.org
BEGIN:VEVENT
URL;VALUE=URI:https://www.bayareascience.org/calendar/index.php?com=detail&eID=32033
DTSTART:20220406T173000
DTEND:20220406T183000
SUMMARY:Grounds for Science
DESCRIPTION:Grounds for Science\, our public program featuring Cal STEM graduate students\, is back live & in-person! Join us as we launch our collaboration with MudLab\, a cafe and store with a mission:...\n______________________________\nThis Event Downloaded From a Helios Calendar Powered Site
LOCATION:MudLab - 440 Grand Ave \, Oakland\, CA  94610
CATEGORIES:BayAreaScience.org Events
PRIORITY:0
TRANSP:TRANSPARENT
END:VEVENT
END:VCALENDAR