BEGIN:VCALENDAR
VERSION:2.0
METHOD:PUBLISH
CALSCALE:GREGORIAN
PRODID:-//Refresh Web Development//Helios Calendar//EN
X-FROM-URL:https://www.bayareascience.org/calendar/index.php?com=details&eID=32049
X-WR-RELCALID:BayAreaScience.org Wonderfest: CODA + Audiology 20220322T170000
X-WR-TIMEZONE:America/New_York
X-WR-CALNAME:BayAreaScience.org
BEGIN:VEVENT
URL;VALUE=URI:https://www.bayareascience.org/calendar/index.php?com=detail&eID=32049
DTSTART:20220322T170000
DTEND:20220322T193000
SUMMARY:Wonderfest: CODA + Audiology
DESCRIPTION:Wonderfest joins St. Helena'sÂ Cameo CinemaÂ to present Q&A withÂ Dr. Melanie GilbertÂ immediately following a special screening of 2021'sÂ CODAÂ (95%...\n______________________________\nThis Event Downloaded From a Helios Calendar Powered Site
LOCATION:Cameo Cinema - 1340 Main St \, St. Helena\, CA  94574
CATEGORIES:BayAreaScience.org Events
PRIORITY:0
TRANSP:TRANSPARENT
END:VEVENT
END:VCALENDAR