BEGIN:VCALENDAR
VERSION:2.0
METHOD:PUBLISH
CALSCALE:GREGORIAN
PRODID:-//Refresh Web Development//Helios Calendar//EN
X-FROM-URL:https://www.bayareascience.org/calendar/index.php?com=details&eID=32051
X-WR-RELCALID:BayAreaScience.org Science on Tap -  That's a moray: Untangling the mysterious lives of California moray eels 20220330T190000
X-WR-TIMEZONE:America/New_York
X-WR-CALNAME:BayAreaScience.org
BEGIN:VEVENT
URL;VALUE=URI:https://www.bayareascience.org/calendar/index.php?com=detail&eID=32051
DTSTART:20220330T190000
DTEND:20220330T190000
SUMMARY:Science on Tap -  That's a moray: Untangling the mysterious lives of California moray eels
DESCRIPTION:If you've been snorkeling in southern California\, there's a good chance you might have spotted the grinning face of a California moray eel peering out at you from the reef. These long-lived fish...\n______________________________\nThis Event Downloaded From a Helios Calendar Powered Site
LOCATION:Museum of Art and History - 705 Front St Back Patio\, Santa Cruz\, CA  95060
CATEGORIES:BayAreaScience.org Events
PRIORITY:0
TRANSP:TRANSPARENT
END:VEVENT
END:VCALENDAR