BEGIN:VCALENDAR
VERSION:2.0
METHOD:PUBLISH
CALSCALE:GREGORIAN
PRODID:-//Refresh Web Development//Helios Calendar//EN
X-FROM-URL:https://www.bayareascience.org/calendar/index.php?com=details&eID=32052
X-WR-RELCALID:BayAreaScience.org Analyzing the Transit of HD 189733b - Livestream 20220319T200000
X-WR-TIMEZONE:America/New_York
X-WR-CALNAME:BayAreaScience.org
BEGIN:VEVENT
URL;VALUE=URI:https://www.bayareascience.org/calendar/index.php?com=detail&eID=32052
DTSTART:20220319T200000
DTEND:20220319T213000
SUMMARY:Analyzing the Transit of HD 189733b - Livestream
DESCRIPTION:An analysis of transit observations of exoplanet HD 189733B across its star using Las Cumbres Observatory's 0.4m telescopes and aperture photometry.Speaker: Ria Jain\, Irvington High School\,...\n______________________________\nThis Event Downloaded From a Helios Calendar Powered Site
LOCATION:San Jose Astronomical Society -  \, \, CA  
CATEGORIES:BayAreaScience.org Events
PRIORITY:0
TRANSP:TRANSPARENT
END:VEVENT
END:VCALENDAR