BEGIN:VCALENDAR
VERSION:2.0
METHOD:PUBLISH
CALSCALE:GREGORIAN
PRODID:-//Refresh Web Development//Helios Calendar//EN
X-FROM-URL:https://www.bayareascience.org/calendar/index.php?com=details&eID=32055
X-WR-RELCALID:BayAreaScience.org  Wildfire-induced Air Pollution Assessment & Mitigation Symposium - Livestream 20220323T090000
X-WR-TIMEZONE:America/New_York
X-WR-CALNAME:BayAreaScience.org
BEGIN:VEVENT
URL;VALUE=URI:https://www.bayareascience.org/calendar/index.php?com=detail&eID=32055
DTSTART:20220323T090000
DTEND:20220323T161500
SUMMARY: Wildfire-induced Air Pollution Assessment & Mitigation Symposium - Livestream
DESCRIPTION:Wildfires are becoming an existential threat to the well-being of the U.S. population\, with wildfire-induced air pollution as one of the most severe contributors to economic and life losses. This...\n______________________________\nThis Event Downloaded From a Helios Calendar Powered Site
LOCATION:CITRIS at UC Berkeley -  \, \, CA  
CATEGORIES:BayAreaScience.org Events
PRIORITY:0
TRANSP:TRANSPARENT
END:VEVENT
END:VCALENDAR