BEGIN:VCALENDAR
VERSION:2.0
METHOD:PUBLISH
CALSCALE:GREGORIAN
PRODID:-//Refresh Web Development//Helios Calendar//EN
X-FROM-URL:https://www.bayareascience.org/calendar/index.php?com=details&eID=32061
X-WR-RELCALID:BayAreaScience.org Wild & Scenic Film Festival 2022 - Livestream 20220427
X-WR-TIMEZONE:America/New_York
X-WR-CALNAME:BayAreaScience.org
BEGIN:VEVENT
URL;VALUE=URI:https://www.bayareascience.org/calendar/index.php?com=detail&eID=32061
DTSTART;VALUE=DATE:20220427
DTEND;VALUE=DATE:20220428
SUMMARY:Wild & Scenic Film Festival 2022 - Livestream
DESCRIPTION:Join Peninsula Open Space Trust (POST) and Midpeninsula Regional Open Space District (Midpen) as we co-host the Wild...\n______________________________\nThis Event Downloaded From a Helios Calendar Powered Site
LOCATION:Peninsula Open Space Trust -  \, \, CA  
CATEGORIES:BayAreaScience.org Events
PRIORITY:0
TRANSP:TRANSPARENT
END:VEVENT
END:VCALENDAR