BEGIN:VCALENDAR
VERSION:2.0
METHOD:PUBLISH
CALSCALE:GREGORIAN
PRODID:-//Refresh Web Development//Helios Calendar//EN
X-FROM-URL:https://www.bayareascience.org/calendar/index.php?com=details&eID=32071
X-WR-RELCALID:BayAreaScience.org April Butterfly Walk in the Garden - FULL 20220426T133000
X-WR-TIMEZONE:America/New_York
X-WR-CALNAME:BayAreaScience.org
BEGIN:VEVENT
URL;VALUE=URI:https://www.bayareascience.org/calendar/index.php?com=detail&eID=32071
DTSTART:20220426T133000
DTEND:20220426T143000
SUMMARY:April Butterfly Walk in the Garden - FULL
DESCRIPTION:Join Sally Levinson\, 'caterpillar lady'\, and Sarab Seth\, 'butterfly guy\,' for a guided walk through the UC Botanical Garden in search of butterflies. Bring binoculars if you have them.Fee...\n______________________________\nThis Event Downloaded From a Helios Calendar Powered Site
LOCATION:UC Botanical Garden - 200 Centennial Drive \, Berkeley\, CA  94720
CATEGORIES:BayAreaScience.org Events
PRIORITY:0
TRANSP:TRANSPARENT
END:VEVENT
END:VCALENDAR