BEGIN:VCALENDAR
VERSION:2.0
METHOD:PUBLISH
CALSCALE:GREGORIAN
PRODID:-//Refresh Web Development//Helios Calendar//EN
X-FROM-URL:https://www.bayareascience.org/calendar/index.php?com=details&eID=32077
X-WR-RELCALID:BayAreaScience.org Electronic correlations and topology across Tc in a magnetic Weyl semimetal - Livestream 20220411T143000
X-WR-TIMEZONE:America/New_York
X-WR-CALNAME:BayAreaScience.org
BEGIN:VEVENT
URL;VALUE=URI:https://www.bayareascience.org/calendar/index.php?com=detail&eID=32077
DTSTART:20220411T143000
DTEND:20220411T153000
SUMMARY:Electronic correlations and topology across Tc in a magnetic Weyl semimetal - Livestream
DESCRIPTION:Co3Sn2S2 is a magnetic Weyl semimetal below its Curie temperature (Tc) of 177K. I will discuss our recent spatial and temperature-dependent angle-resolved photoemission spectroscopy (ARPES) studies...\n______________________________\nThis Event Downloaded From a Helios Calendar Powered Site
LOCATION:Physics North - UC Berkeley Room 3\, Berkeley\, CA  94720
CATEGORIES:BayAreaScience.org Events
PRIORITY:0
TRANSP:TRANSPARENT
END:VEVENT
END:VCALENDAR