BEGIN:VCALENDAR
VERSION:2.0
METHOD:PUBLISH
CALSCALE:GREGORIAN
PRODID:-//Refresh Web Development//Helios Calendar//EN
X-FROM-URL:https://www.bayareascience.org/calendar/index.php?com=details&eID=32087
X-WR-RELCALID:BayAreaScience.org An Apollo 13 Astronaut Shares His Story - Livestream 20220413T160000
X-WR-TIMEZONE:America/New_York
X-WR-CALNAME:BayAreaScience.org
BEGIN:VEVENT
URL;VALUE=URI:https://www.bayareascience.org/calendar/index.php?com=detail&eID=32087
DTSTART:20220413T160000
DTEND:20220413T171500
SUMMARY:An Apollo 13 Astronaut Shares His Story - Livestream
DESCRIPTION:Fred Haise was set to become the sixth person to walk on the moon. But three days into his voyage on Apollo 13\, an oxygen tank exploded\, instantly turning a groundbreaking mission...\n______________________________\nThis Event Downloaded From a Helios Calendar Powered Site
LOCATION:Smithsonian Magazine -  \, \, CA  
CATEGORIES:BayAreaScience.org Events
PRIORITY:0
TRANSP:TRANSPARENT
END:VEVENT
END:VCALENDAR