BEGIN:VCALENDAR
VERSION:2.0
METHOD:PUBLISH
CALSCALE:GREGORIAN
PRODID:-//Refresh Web Development//Helios Calendar//EN
X-FROM-URL:https://www.bayareascience.org/calendar/index.php?com=details&eID=32089
X-WR-RELCALID:BayAreaScience.org Investigating Space: Spacecraft of SpaceX 20220416T130000
X-WR-TIMEZONE:America/New_York
X-WR-CALNAME:BayAreaScience.org
BEGIN:VEVENT
URL;VALUE=URI:https://www.bayareascience.org/calendar/index.php?com=detail&eID=32089
DTSTART:20220416T130000
DTEND:20220416T140000
SUMMARY:Investigating Space: Spacecraft of SpaceX
DESCRIPTION:As part of NASAâ€™s Commercial Crew Program\, the fourth SpaceX Crew Dragon spacecraft and Falcon 9 rocket is preparing to launch from Kennedy Space Center later...\n______________________________\nThis Event Downloaded From a Helios Calendar Powered Site
LOCATION:Chabot Space and Science Center - 10000 Skyline Blvd \, Oakland\, CA USA 94619
CATEGORIES:BayAreaScience.org Events
PRIORITY:0
TRANSP:TRANSPARENT
END:VEVENT
END:VCALENDAR