BEGIN:VCALENDAR
VERSION:2.0
METHOD:PUBLISH
CALSCALE:GREGORIAN
PRODID:-//Refresh Web Development//Helios Calendar//EN
X-FROM-URL:https://www.bayareascience.org/calendar/index.php?com=details&eID=32114
X-WR-RELCALID:BayAreaScience.org The Universe in Verse - A charitable celebration of science and nature through poetry 20220416T190000
X-WR-TIMEZONE:America/New_York
X-WR-CALNAME:BayAreaScience.org
BEGIN:VEVENT
URL;VALUE=URI:https://www.bayareascience.org/calendar/index.php?com=detail&eID=32114
DTSTART:20220416T190000
DTEND:20220416T213000
SUMMARY:The Universe in Verse - A charitable celebration of science and nature through poetry
DESCRIPTION:\n______________________________\nThis Event Downloaded From a Helios Calendar Powered Site
LOCATION:Quarry Amphitheater - 1156 High St. UC Santa Cruz\, Santa Cruz\, CA USA 95064
CATEGORIES:BayAreaScience.org Events
PRIORITY:0
TRANSP:TRANSPARENT
END:VEVENT
END:VCALENDAR