BEGIN:VCALENDAR
VERSION:2.0
METHOD:PUBLISH
CALSCALE:GREGORIAN
PRODID:-//Refresh Web Development//Helios Calendar//EN
X-FROM-URL:https://www.bayareascience.org/calendar/index.php?com=details&eID=32117
X-WR-RELCALID:BayAreaScience.org What is a Radiologist? - Livestream 20220421T163000
X-WR-TIMEZONE:America/New_York
X-WR-CALNAME:BayAreaScience.org
BEGIN:VEVENT
URL;VALUE=URI:https://www.bayareascience.org/calendar/index.php?com=detail&eID=32117
DTSTART:20220421T163000
DTEND:20220421T170000
SUMMARY:What is a Radiologist? - Livestream
DESCRIPTION:Have...\n______________________________\nThis Event Downloaded From a Helios Calendar Powered Site
LOCATION:UC San Francisco Radiology and Biomedical Imaging -  \, \, CA  
CATEGORIES:BayAreaScience.org Events
PRIORITY:0
TRANSP:TRANSPARENT
END:VEVENT
END:VCALENDAR