BEGIN:VCALENDAR
VERSION:2.0
METHOD:PUBLISH
CALSCALE:GREGORIAN
PRODID:-//Refresh Web Development//Helios Calendar//EN
X-FROM-URL:https://www.bayareascience.org/calendar/index.php?com=details&eID=32122
X-WR-RELCALID:BayAreaScience.org Explore Physics at UC Berkeley 20220422T130000
X-WR-TIMEZONE:America/New_York
X-WR-CALNAME:BayAreaScience.org
BEGIN:VEVENT
URL;VALUE=URI:https://www.bayareascience.org/calendar/index.php?com=detail&eID=32122
DTSTART:20220422T130000
DTEND:20220422T160000
SUMMARY:Explore Physics at UC Berkeley
DESCRIPTION:Find...\n______________________________\nThis Event Downloaded From a Helios Calendar Powered Site
LOCATION:Physics North Building - 366 Physics North \, Berkeley\, CA  94704
CATEGORIES:BayAreaScience.org Events
PRIORITY:0
TRANSP:TRANSPARENT
END:VEVENT
END:VCALENDAR