BEGIN:VCALENDAR
VERSION:2.0
METHOD:PUBLISH
CALSCALE:GREGORIAN
PRODID:-//Refresh Web Development//Helios Calendar//EN
X-FROM-URL:https://www.bayareascience.org/calendar/index.php?com=details&eID=32124
X-WR-RELCALID:BayAreaScience.org  Science of Bubbles 20220423T100000
X-WR-TIMEZONE:America/New_York
X-WR-CALNAME:BayAreaScience.org
BEGIN:VEVENT
URL;VALUE=URI:https://www.bayareascience.org/calendar/index.php?com=detail&eID=32124
DTSTART:20220423T100000
DTEND:20220423T130000
SUMMARY: Science of Bubbles
DESCRIPTION:Discover...\n______________________________\nThis Event Downloaded From a Helios Calendar Powered Site
LOCATION:Stockmen's Park - 25 S Livermore Ave \, Livermore\, CA  94550
CATEGORIES:BayAreaScience.org Events
PRIORITY:0
TRANSP:TRANSPARENT
END:VEVENT
END:VCALENDAR