BEGIN:VCALENDAR
VERSION:2.0
METHOD:PUBLISH
CALSCALE:GREGORIAN
PRODID:-//Refresh Web Development//Helios Calendar//EN
X-FROM-URL:https://www.bayareascience.org/calendar/index.php?com=details&eID=32126
X-WR-RELCALID:BayAreaScience.org  Presidio Archaeology: Behind the Scenes Tour 20220423T103000
X-WR-TIMEZONE:America/New_York
X-WR-CALNAME:BayAreaScience.org
BEGIN:VEVENT
URL;VALUE=URI:https://www.bayareascience.org/calendar/index.php?com=detail&eID=32126
DTSTART:20220423T103000
DTEND:20220423T111500
SUMMARY: Presidio Archaeology: Behind the Scenes Tour
DESCRIPTION:Explore...\n______________________________\nThis Event Downloaded From a Helios Calendar Powered Site
LOCATION:Presidio of San Francisco - 50 Moraga Ave \, San Francisco\, CA  94129
CATEGORIES:BayAreaScience.org Events
PRIORITY:0
TRANSP:TRANSPARENT
END:VEVENT
END:VCALENDAR