BEGIN:VCALENDAR
VERSION:2.0
METHOD:PUBLISH
CALSCALE:GREGORIAN
PRODID:-//Refresh Web Development//Helios Calendar//EN
X-FROM-URL:https://www.bayareascience.org/calendar/index.php?com=details&eID=32135
X-WR-RELCALID:BayAreaScience.org  Discovery Day @ Oracle Park 20220424T110000
X-WR-TIMEZONE:America/New_York
X-WR-CALNAME:BayAreaScience.org
BEGIN:VEVENT
URL;VALUE=URI:https://www.bayareascience.org/calendar/index.php?com=detail&eID=32135
DTSTART:20220424T110000
DTEND:20220424T160000
SUMMARY: Discovery Day @ Oracle Park
DESCRIPTION:Discovery...\n______________________________\nThis Event Downloaded From a Helios Calendar Powered Site
LOCATION:Oracle Park - 24 Willie Mays Plaza \, San Francisco\, CA  94107
CATEGORIES:BayAreaScience.org Events
PRIORITY:0
TRANSP:TRANSPARENT
END:VEVENT
END:VCALENDAR