BEGIN:VCALENDAR
VERSION:2.0
METHOD:PUBLISH
CALSCALE:GREGORIAN
PRODID:-//Refresh Web Development//Helios Calendar//EN
X-FROM-URL:https://www.bayareascience.org/calendar/index.php?com=details&eID=32141
X-WR-RELCALID:BayAreaScience.org  Whatâ€™s Infecting Us? Laboratory Detection of Pathogens in the Current Era - Livestream 20220426T150000
X-WR-TIMEZONE:America/New_York
X-WR-CALNAME:BayAreaScience.org
BEGIN:VEVENT
URL;VALUE=URI:https://www.bayareascience.org/calendar/index.php?com=detail&eID=32141
DTSTART:20220426T150000
DTEND:20220426T163000
SUMMARY: Whatâ€™s Infecting Us? Laboratory Detection of Pathogens in the Current Era - Livestream
DESCRIPTION:Nearly...\n______________________________\nThis Event Downloaded From a Helios Calendar Powered Site
LOCATION:UC San Francisco Department of Laboratory Medicine -  \, \, CA  
CATEGORIES:BayAreaScience.org Events
PRIORITY:0
TRANSP:TRANSPARENT
END:VEVENT
END:VCALENDAR