BEGIN:VCALENDAR
VERSION:2.0
METHOD:PUBLISH
CALSCALE:GREGORIAN
PRODID:-//Refresh Web Development//Helios Calendar//EN
X-FROM-URL:https://www.bayareascience.org/calendar/index.php?com=details&eID=32146
X-WR-RELCALID:BayAreaScience.org Protegiendo y rehabilitando Aves de rapiÃ±a locales - Livestream 20220426T180000
X-WR-TIMEZONE:America/New_York
X-WR-CALNAME:BayAreaScience.org
BEGIN:VEVENT
URL;VALUE=URI:https://www.bayareascience.org/calendar/index.php?com=detail&eID=32146
DTSTART:20220426T180000
DTEND:20220426T190000
SUMMARY:Protegiendo y rehabilitando Aves de rapiÃ±a locales - Livestream
DESCRIPTION:Wildlife...\n______________________________\nThis Event Downloaded From a Helios Calendar Powered Site
LOCATION:Wildlife Center of Silicon Valley -  \, \, CA  
CATEGORIES:BayAreaScience.org Events
PRIORITY:0
TRANSP:TRANSPARENT
END:VEVENT
END:VCALENDAR