BEGIN:VCALENDAR
VERSION:2.0
METHOD:PUBLISH
CALSCALE:GREGORIAN
PRODID:-//Refresh Web Development//Helios Calendar//EN
X-FROM-URL:https://www.bayareascience.org/calendar/index.php?com=details&eID=32148
X-WR-RELCALID:BayAreaScience.org Water Rocket Rally 20220427T133000
X-WR-TIMEZONE:America/New_York
X-WR-CALNAME:BayAreaScience.org
BEGIN:VEVENT
URL;VALUE=URI:https://www.bayareascience.org/calendar/index.php?com=detail&eID=32148
DTSTART:20220427T133000
DTEND:20220427T163000
SUMMARY:Water Rocket Rally
DESCRIPTION:Ideal...\n______________________________\nThis Event Downloaded From a Helios Calendar Powered Site
LOCATION:Hiller Aviation Museum - 601 Skyway Rd. \, San Carlos\, CA  94070
CATEGORIES:BayAreaScience.org Events
PRIORITY:0
TRANSP:TRANSPARENT
END:VEVENT
END:VCALENDAR